BEGIN:VCALENDAR
VERSION:2.0
PRODID:-//tapahtumainfo.fi//NONSGML KINO HELIOS: Michael//EN
METHOD:REQUEST
BEGIN:VEVENT
UID:20260422T035441-175203150-tapahtumainfo.fi
DTSTAMP:20260422T035441
DTSTART:20260425T180000Z
DTEND:20260425T020000Z
LOCATION:Malmitalo
SUMMARY:KINO HELIOS: Michael
DESCRIPTION:<html><head></head><body><b>Michael pe 24.4.2026 klo 18.00, la 25.4.2026 klo 18.00 ja ke 29.4.2026 klo 18.00</b><br><br>Michael on elokuva yhden kaikkien aikojen merkittävimmän artistin elämästä ja perinnöstä.<br><br>Elokuva kertoo Michael Jacksonin tarinan seuraten hänen matkaansa The Jackson 5:n uskomattoman lahjakkaasta, nuoresta keulahahmosta aina visionääriseksi artistiksi, jonka kunnianhimoinen tavoite oli tulla maailman suurimmaksi tähdeksi. Tarina keskittyy Michaelin elämään konserttilavojen ulkopuolella ja soolouran alkuaikojen kuuluisimpiin esiintymisiin. Katsoja pääsee seuraamaan Michael Jacksonin elämää eturivistä ennennäkemättömällä tavalla. Tästä hänen tarinansa alkaa.<br><br>Michaelin pääosissa nähdään Jaafar Jackson hänen ensimmäisessä pääroolissaan, Nia Long (Empire, The Best Man -elokuvasarja) ja Laura Harrier (BlacKkKlansman, Spider-Man: Homecoming). Mukana ovat myös Miles Teller (Top Gun: Maverick, Whiplash) ja kahdesti Oscar®-ehdokkaana ollut Colman Domingo (Sing Sing, Rustin).<br><br>Elokuvan on ohjannut Antoine Fuqua, joka tunnetaan elokuvista Training Day ja Olympos on valloitettu sekä Equalizer-elokuvasarjasta. Käsikirjoituksen on laatinut kolmesti Oscar®-ehdokkaana ollut John Logan (Gladiator, Lentäjä). Elokuvan ovat tuottaneet Oscar®-voittaja Graham King (The Departed, Bohemian Rhapsody), John Branca (vastaava tuottaja: This Is It, Thriller 40) ja John McClain (vastaava tuottaja: This Is It, Michael Jackson Live at Wembley July 16, 1988).<br><br>Ikäraja: K12<br>Kesto: 127 min<br>Ensi-ilta: 22.4.2026<br>Kieli: englanti<br>Tekstitys: suomi, ruotsi <br /><br />  Visit event in our website: <a href='https://tapahtumainfo.fi/tapahtuma/2026/04/kino-helios-michael/442466'>Tapahtumainfo.fi</a></body></html>
END:VEVENT
END:VCALENDAR
