BEGIN:VCALENDAR
VERSION:2.0
PRODID:-//tapahtumainfo.fi//NONSGML KINO HELIOS: Paholainen pukeutuu Pradaan 2//EN
METHOD:REQUEST
BEGIN:VEVENT
UID:20260421T054101-229248264-tapahtumainfo.fi
DTSTAMP:20260421T054101
DTSTART:20260502T180000Z
DTEND:20260502T020000Z
LOCATION:Malmitalo
SUMMARY:KINO HELIOS: Paholainen pukeutuu Pradaan 2
DESCRIPTION:<html><head></head><body><b>Paholainen pukeutuu Pradaan 2 la 2.5.2026 klo 18.00, ke 6.5.2026 klo 15.00, to 7.5.2026 klo 18.00 (neulontakino) ja la 9.5.2026 klo 18.00</b><br><br>Lähes 20 vuotta sitten värikkäiden vaiheiden myötä ikonisiksi muodostuneet hahmot Miranda, Andy, Emily ja Nigel—Meryl Streep, Anne Hathaway, Emily Blunt ja Stanley Tucci palaavat New Yorkin muodikkaille kaduille ja Runway Magazinen hohdokkaaseen toimitukseen hartaasti odotetussa jatko-osassa vuoden 2006 elokuvatapaukselle, josta muodostui sukupolvikokemus. Mukana ovat kaikki alkuperäiset päänäyttelijät sekä ohjaaja David Frankel ja käsikirjoittaja Aline Brosh McKenna, ja heidän lisäkseen esiin marssitetaan kokonainen liuta uusia hahmoja mukaan lukien Kenneth Branagh, Simone Ashley, Justin Theroux, Lucy Liu, Patrick Brammall, Caleb Hearon, Helen J. Shen, Pauline Chalamet, B.J. Novak ja Conrad Ricamora. Myös Tracie Thoms ja Tibor Feldman palaavat ensimmäisen elokuvan Lilyn ja Irvin rooleihinsa.<br><br>Elokuvan Paholainen pukeutuu Pradaan 2 on tuottanut Wendy Finerman sekä vastaavina tuottajina toimineet Michael Bederman, Karen Rosenfelt ja McKenna.<br><br>Elokuva saa ensi-iltansa vain elokuvateattereissa 1. toukokuuta 2026.<br><br>Ikäraja: ei vielä tiedossa<br>Kesto: 120 min<br>Ensi-ilta: 1.5.2026<br>Kieli: englanti<br>Tekstitys: suomi, ruotsi<br><br>Neulo itsesi muotimaailmaan Kino Helioksen neulontanäytöksessä! Tämän elokuvanäytöksen aikana voit elokuvasta nauttiessasi samalla tehdä käsitöitä. Elokuvan aikana sali on hieman normaalia valoisampi, jotta neulominen onnistuu. Voit tuoda mukanasi oman keskeneräisen työsi tai neuloa elokuvalipun mukana tulevaa Hertta-huivia. Huivin neuleohje toimitetaan lipun ostajalle sähköpostitse ennen näytöstä. Hertta-huivi on täydellinen asuste arkeen, kahvilaan ja kevätkeleille. Piparkakkureunainen huivi on leikkisä ja taipuu niin somaksi kuin räväkämmäksi riippuen värivalinnastasi. Huivin siro olemus ja koko tekevät siitä monikäyttöisen - ei ihme, että pienet huivit ovat tällä hetkellä neulemaailman iso trendi!<br><br>Hertta-huivi sopii mainiosti sekä aloittelevalle että kokeneemmalle neulojalle. Selkeä ja helpohko neulemalli on joutuisa neuloa, mutta sisältää kivoja yksityiskohtia, joista neuloja saa uutta inspiraatiota. Voit aloittaa huivin tekemisen ennen elokuvaan saapumista tai neuleohjauksessa, jota on tarjolla tunnin verran ennen näytöstä (klo 17-18). Neuleohjauksessa saat apua huivin aloittamiseen tai jatkamiseen, jotta pääset nauttimaan rennosta neulomisesta koko elokuvan ajan. Varaathan mukaan omat tarvikkeesi neulontaa varten. Neuleopastuksessa on myös myynnissä muutamia lankoja. Itse elokuva alkaa klo 18. <br /><br />  Visit event in our website: <a href='https://tapahtumainfo.fi/tapahtuma/2026/05/kino-helios-paholainen-pukeutuu-pradaan-2/442471'>Tapahtumainfo.fi</a></body></html>
END:VEVENT
END:VCALENDAR
