BEGIN:VCALENDAR
VERSION:2.0
PRODID:-//tapahtumainfo.fi//NONSGML NOKIA ARENAN AITIOT: Mansen Tähdet//EN
METHOD:REQUEST
BEGIN:VEVENT
UID:20260423T050601-97029132-tapahtumainfo.fi
DTSTAMP:20260423T050601
DTSTART:20261024T190000Z
DTEND:20261024T020000Z
LOCATION:Nokia Arena
SUMMARY:NOKIA ARENAN AITIOT: Mansen Tähdet
DESCRIPTION:<html><head></head><body><b>Lähes 20 artistin ja Tampere Filharmonian Mansen tähdet -jättikonsertti Nokia Arenalla lokakuussa!</b><br><br>Tampereella nähdään lokakuussa todellinen konserttiharvinaisuus, kun Nokia Arenan lavalle nousee lähes kaksikymmentä Tampereelta kotoisin olevaa huippuartistia. Konsertin kruunaa Tampereen Filharmonia johtajanaan <b>Antti Rissanen</b>.<br><br>Mansen tähdet -konsertin artisteiksi ovat jo varmistuneet <b>Jarkko Ahola</b>, <b>Mikko Alatalo</b>, <b>Pauli Hanhiniemi</b>, <b>Costello Hautamäki</b>, <b>Heikki Hela</b>, <b>Olli Herman</b>, <b>Pentti Hietanen</b>, <b>JP Leppäluoto</b>, <b>Noora Louhimo</b>, <b>Jore Marjaranta</b>, <b>Jenni Mustajärvi</b>, <b>Sami Saari</b>, <b>Laura Voutilainen</b> ja <b>Herra Ylppö</b>. Lisää artisteja julkistetaan kevään ja syksyn aikana.<br><br>Jokainen solisti valitsee tuotannostaan kaksi itselleen merkityksellisintä kappaletta, joihin liittyy jokin henkilökohtainen ja koskettava tarina. Illan juontajana ja keskustelujen moderaattorina toimii <b>Arto Nyberg</b>, joka haastattelee artisteja kappalevalintojen taustoista: miksi juuri nämä laulut ovat heille niin tärkeitä ja mitä tarinoita niiden taakse kätkeytyy.<br><br>Tampere Filharmonia esiintyy konsertissa 60-henkisellä kokoonpanollaan. Orkesteria johtaa kapellimestari <b>Antti Rissanen</b>. Yhdessä he luovat solistien kanssa ainutlaatuisen, orkesterisovituksin rikastetun elämyksen tuttuihin kappaleisiin.<br><br>Lisätietoja: www.mansentahdet.fi <br /><br />  Visit event in our website: <a href='https://tapahtumainfo.fi/tapahtuma/2026/10/nokia-arenan-aitiot-mansen-tahdet/442476'>Tapahtumainfo.fi</a></body></html>
END:VEVENT
END:VCALENDAR
