BEGIN:VCALENDAR
VERSION:2.0
PRODID:-//tapahtumainfo.fi//NONSGML JAZZIN SYNTY//EN
METHOD:REQUEST
BEGIN:VEVENT
UID:20260425T235755-1820150768-tapahtumainfo.fi
DTSTAMP:20260425T235755
DTSTART:20261129T160000Z
DTEND:20261129T020000Z
LOCATION:Aleksanterin teatteri
SUMMARY:JAZZIN SYNTY
DESCRIPTION:<html><head></head><body>JAZZIN SYNTY<br><br>Varhaisinta jazzia New Orleansista 1900-1930<br><br>Aitoa New Orleans -jazzia suoraan New Orleansista! Suomen ainoa jazziin<br>alkuaikoihin erikoistunut laulajatar Reine Rimón (84) on koonnnut<br>neworleansilaisen trumpetisti Gregg Staffordin (73) kanssa ainutlaatuisen ja<br>erittäin monipuolisen kattauksen jazzmusiikin kaikkein varhaisimmista laulu-<br>ja soittokappaleista. Hauska ohjelma myös koko perheelle, hyödyllinen<br>musiikin opiskelijoille. Tämä konsertti on Birth of Jazz -ohjelman ainoa<br>esitys Helsingissä.<br><br>There is a house in New Orleans, called The Preservation Hall. It is where<br>the early jazz is saved and played by contemporary musicians. One of them is<br>trumpet player Gregg Stafford. Now he brings the spirit of New Orleans jazz<br>to us with the Finnish vocalist Reine Rimón & Her Hot Papas Jazz Band. This<br>the 40th consecutive year the popular artists have played to the Finnish<br>audience.<br><br>Su 29.11.2026 klo 16.00<br><br>Kesto noin 2 h, sisältäen väliajan.<br><br>Liput: 40 € <br /><br />  Visit event in our website: <a href='https://tapahtumainfo.fi/tapahtuma/2026/11/jazzin-synty/442483'>Tapahtumainfo.fi</a></body></html>
END:VEVENT
END:VCALENDAR
