BEGIN:VCALENDAR
VERSION:2.0
PRODID:-//tapahtumainfo.fi//NONSGML Tove Jansson: Kuusi//EN
METHOD:REQUEST
BEGIN:VEVENT
UID:20260424T121543-1265228031-tapahtumainfo.fi
DTSTAMP:20260424T121543
DTSTART:20261219T130000Z
DTEND:20261219T020000Z
LOCATION:Monikkosali
SUMMARY:Tove Jansson: Kuusi
DESCRIPTION:<html><head></head><body>La 19.12. klo 13<br>Monikkosali, Klaukkala<br><b>Tove Jansson: Kuusi – Talvinen tarina Muumilaaksossa</b><br><br>Muumit nukkuvat rauhallista talviuntaan lumen peittäessä Muumilaakson. Pian rauha on kuitenkin tipotiessään, sillä jokin kamala on tulossa. Jokin, jolle pitää laittaa ruokaa, hankkia lahjoja ja vaikka mitä. Se jokin on kuulemma nimeltään ”Joulu”… Yhtäkkiä kaikilla on kamala kiire.<br><br>Tämä talvinen tarina Muumilaaksossa muistuttaa meitä tärkeistä perusasioista; yhdessä olosta, jakamisen tärkeydestä ja antamisen ilosta. Tähtien syttyessä taivaalle, ketkä kokoontuvatkaan koristellun kuusen ympärille?<br><br>Teatteri Hevosenkenkä<br><br>Järj. Nurmijärven kulttuuripalvelut<br><br>Perhelippu: 2 lasta + 1 aikuinen tai 1 lapsi + 2 aikuista <br /><br />  Visit event in our website: <a href='https://tapahtumainfo.fi/tapahtuma/2026/12/tove-jansson-kuusi/442486'>Tapahtumainfo.fi</a></body></html>
END:VEVENT
END:VCALENDAR
