BEGIN:VCALENDAR
VERSION:2.0
PRODID:-//tapahtumainfo.fi//NONSGML Tanssikeskus Element – Kevätnäytös: Magical Movie Night//EN
METHOD:REQUEST
BEGIN:VEVENT
UID:20260424T143402-2113105621-tapahtumainfo.fi
DTSTAMP:20260424T143402
DTSTART:20260511T180000Z
DTEND:20260511T020000Z
LOCATION:Hyvinkääsali
SUMMARY:Tanssikeskus Element – Kevätnäytös: Magical Movie Night
DESCRIPTION:<html><head></head><body>Tanssikeskus Elementin Kevätnäytös ”Magical Movie Night” Ma 11.5.2026 klo 18.00. Kesto n. 75min. <br>Tervetuloa! <br /><br />  Visit event in our website: <a href='https://tapahtumainfo.fi/tapahtuma/2026/05/tanssikeskus-element--kevatnaytos-magical-movie-night/442487'>Tapahtumainfo.fi</a></body></html>
END:VEVENT
END:VCALENDAR
