BEGIN:VCALENDAR
VERSION:2.0
PRODID:-//tapahtumainfo.fi//NONSGML Another Day of Sun - musikaalikonsertti//EN
METHOD:REQUEST
BEGIN:VEVENT
UID:20260425T195207-1061619095-tapahtumainfo.fi
DTSTAMP:20260425T195207
DTSTART:20260507T190000Z
DTEND:20260507T020000Z
LOCATION:TTT-Klubi
SUMMARY:Another Day of Sun - musikaalikonsertti
DESCRIPTION:<html><head></head><body>Tervetuloa TAMK Choral Companyn musikaalikonserttiin TTT-klubille torstaina 7.5. klo 19.00!<br><br /> <br><br />Konsertissa kuullaan laaja kirjo musikaalihittejä mm. klassikkomusikaaleista Les Misérables, Into The Woods sekä Rent. Lisäksi konsertissa saadaan ihastella tanssinumeroita, joiden koreografioista vastaavat Lotta Suominen ja Sara Pitkänen. Lavalla kuoron kanssa säkenöi 6-henkinen orkesteri, johtajanaan Heta Laakso.<br><br /> <br><br />TAMK Choral Company on Tampereen ammattikorkeakoulun opiskelijoista koostuva showkuoro, jonka kevät huipentuu tähän valovoimaiseen spektaakkeliin TTT-klubilla. Älä jätä tätä show’ta väliin!<br> <br /><br />  Visit event in our website: <a href='https://tapahtumainfo.fi/tapahtuma/2026/05/another-day-of-sun-musikaalikonsertti/442488'>Tapahtumainfo.fi</a></body></html>
END:VEVENT
END:VCALENDAR
