BEGIN:VCALENDAR
VERSION:2.0
PRODID:-//tapahtumainfo.fi//NONSGML KULT Live: Love is Punk festarit K-18//EN
METHOD:REQUEST
BEGIN:VEVENT
UID:20260422T083005-340011524-tapahtumainfo.fi
DTSTAMP:20260422T083005
DTSTART:20260822T200000Z
DTEND:20260822T020000Z
LOCATION:KULT
SUMMARY:KULT Live: Love is Punk festarit K-18
DESCRIPTION:<html><head></head><body>Vuonna 2023 lanseerattu, <b>Love Is Punk Recordsin</b> järjestämä minifestari on punk-rockiin keskittyvä musiikkitapahtuma, jossa esiintyviä bändejä yhdistää energinen livemeno ja rakkaus punkkiin. Jo kahdeksannessa Love is Punk festissä lavalle nousevat ruotsalainen <b>MISCONDUC</b>T sekä Love Is Punk -perheen jäsenet: uuden albuminsa julkaiseva <b>Rasvamaksa </b>ja tiukassa livekunnossa oleva punkjyrä <b>Clarkkent</b>.<br><br>Ovet klo 19.00<br>Showtime 20.00/21.00/22.00<br><br>Eteispalvelumaksu 4,50 €<br><br>K18<br><br>HUOM! KULT ei ole esteetön. Lue lisää:  <a href="https://kulttuuritalo.fi/kult/kavijalle/" target="_blank">https://kulttuuritalo.fi/kult/kavijalle</a><br> <br /><br />  Visit event in our website: <a href='https://tapahtumainfo.fi/tapahtuma/2026/08/kult-live-love-is-punk-festarit-k-18/442489'>Tapahtumainfo.fi</a></body></html>
END:VEVENT
END:VCALENDAR
