BEGIN:VCALENDAR
VERSION:2.0
PRODID:-//tapahtumainfo.fi//NONSGML KULT Live: Revolver 60-vuotisjuhlakonsertti K-18//EN
METHOD:REQUEST
BEGIN:VEVENT
UID:20260422T164336-1471327420-tapahtumainfo.fi
DTSTAMP:20260422T164336
DTSTART:20260807T190000Z
DTEND:20260807T020000Z
LOCATION:KULT
SUMMARY:KULT Live: Revolver 60-vuotisjuhlakonsertti K-18
DESCRIPTION:<html><head></head><body>The Beatlesin Revolver-albumin julkaisusta tulee kuluneeksi 60 vuotta. Juhlistamme asiaa juhlakonsertilla, jossa Jiri Nikkinen The Beatles Tribute Band esittää koko albumin, kappaleet oikeassa järjestyksessä, oikein sävellajein sekä sovituksin.<br><br>Vuonna 1966 julkaistu Revolver oli Beatlesin murrosvaiheen levy, jossa perinteinen beat-tyyli muuttui kokeilevampaan suuntaan. Albumilta löytyy niin psykedeliaa kuin klassisiakin sävyjä, ja sitä pidetään yhtenä yhteen parhaimmista albumeista. Rokista kehittyi taidemuoto, ja Klaus Voormannin tekemä kansitaide voitti vuoden 1966 parhaan albumikannen Grammy-palkinnon. Itse levykin voitti Grammyn. Jiri Nikkinen The Beatles Tribute Band on maamme tunnetuin Beatlesiin keskittyvä yhtye, ja sen soinnissa kuuluu aito rakkaus ja intohimo maailman merkittävintä pop/rock-yhtyettä kohtaan.<br><br>The Beatlesia et voi enää kokea, mutta tämän voit!<br><br>19.00 Ovet <br>20.00 Showtime<br>Tapahtumassa on väliaika. <br><br>Tapahtuma järjestetään seisovana.<br><br>Liput 29,90 € + tilausmaksut (alk. 1,50 € + 0,65 % tilauksesta www.lippu.fi)<br>Eteispalvelumaksu 4,50 € <br>K18<br>Tila ei valitettavasti ole esteetön. <br><br> <br /><br />  Visit event in our website: <a href='https://tapahtumainfo.fi/tapahtuma/2026/08/kult-live-revolver-60-vuotisjuhlakonsertti-k-18/442490'>Tapahtumainfo.fi</a></body></html>
END:VEVENT
END:VCALENDAR
