BEGIN:VCALENDAR
VERSION:2.0
PRODID:-//tapahtumainfo.fi//NONSGML KULT Live: INGINMAA K-18//EN
METHOD:REQUEST
BEGIN:VEVENT
UID:20260425T170115-510072431-tapahtumainfo.fi
DTSTAMP:20260425T170115
DTSTART:20260905T190000Z
DTEND:20260905T020000Z
LOCATION:KULT
SUMMARY:KULT Live: INGINMAA K-18
DESCRIPTION:<html><head></head><body>Helmikuussa ilmestyneessä Anna Inginmaan ajattomassa popalbumissa "Yhdeksän elämää" on melodraamaa, herkkyyttä, tummia varjoja ja vahvoja melodioita. Musiikissa on kaikuja 70-luvun ranskalaisesta popista, trip hopista ja cinematic-tunnelmista, mutta retroilevan tyylileikin sijaan fokus on Inginmaan tulkitsijapersoonassa ja hänen musiikintekijyydessään. Levy on henkilökohtainen, rehellinen ja mielikuvituksen vapaata leikkiä.<br><br>Levyn tuottivat muun muassa Lyyti-, Arppa- ja J. Karjalainen -yhtyeistä tuttu muusikko-tuottaja Antti Vuorenmaa. Mukana on kokonaan Inginmaan säveltämiä, sekä yhdessä kitaristi Pekka Laineen ja Kyösti Salokorven kanssa kirjoitettuja kappaleita. Teksteistä vastaavat laulaja-muusikko Maritta Kuula, Finlandia-palkittu kirjailija Rosa Liksom, Rosita Luu -yhtyeestä tuttu Merita Berg ja Kauko Röyhkä.<br><br>Keikkasetti sisältää, uusien INGINMAA-biisien lisäksi, jokusen maukkaan coverin sekä myös muutaman Inginmaa/Hypnomen -kappaleen.<br><br>INGINMAA-keikkakokoonpano on:<br>Anna Inginmaa – laulu<br>Otto Porkkala – kitara<br>Tyko Vaskivuori – koskettimet<br>Ilkka Tuovinen – basso<br>Ville Luukkonen – rummut<br><br>Ovet klo 19.00<br>Showtime 20.00<br><br>Liput 26,00 € + tilausmaksut (alk. 1,50 € + 0,65 % tilauksesta www.lippu.fi). <br>Eteispalvelumaksu 4,50 € <br>K18<br>Valitettavasti tila ei ole esteetön.<br><br> <br /><br />  Visit event in our website: <a href='https://tapahtumainfo.fi/tapahtuma/2026/09/kult-live-inginmaa-k-18/442491'>Tapahtumainfo.fi</a></body></html>
END:VEVENT
END:VCALENDAR
