BEGIN:VCALENDAR
VERSION:2.0
PRODID:-//tapahtumainfo.fi//NONSGML Kulissikierros Lappeenrannan kaupunginteatterissa//EN
METHOD:REQUEST
BEGIN:VEVENT
UID:20260424T081606-2014037382-tapahtumainfo.fi
DTSTAMP:20260424T081606
DTSTART:20260924T163000Z
DTEND:20260924T020000Z
LOCATION:Lappeenrannan Kaupunginteatteri
SUMMARY:Kulissikierros Lappeenrannan kaupunginteatterissa
DESCRIPTION:<html><head></head><body>Lappeenrannan kaupunginteatterin kulissikierros on mieleenpainuva kokemus kaikenlaisille ryhmille. Kierroksella pääset kurkistamaan työskentelytiloihimme ja saat käsityksen siitä, miten esityksiä valmistellaan. <br><br>Teatterin kulisseista löytyy valtava määrä ammattitaitoa, huolellista suunnittelua ja tiimityötä, joka tekee teatterista erityisen taiteenmuodon. Kulissikierros tarjoaa mahtavan tilaisuuden tavata teatterin ammattilaisia ja inspiroitua teatteritaiteesta – ja kuka tietää, ehkä kierros sytyttää sisäisen palosi teatteria kohtaan! <br /><br />  Visit event in our website: <a href='https://tapahtumainfo.fi/tapahtuma/2026/09/kulissikierros-lappeenrannan-kaupunginteatterissa/442492'>Tapahtumainfo.fi</a></body></html>
END:VEVENT
END:VCALENDAR
