BEGIN:VCALENDAR
VERSION:2.0
PRODID:-//tapahtumainfo.fi//NONSGML Mitä tapahtui Oliverille? - ensi-ilta//EN
METHOD:REQUEST
BEGIN:VEVENT
UID:20260421T083343-8773346-tapahtumainfo.fi
DTSTAMP:20260421T083343
DTSTART:20261203T190000Z
DTEND:20261203T020000Z
LOCATION:Teatteri Jurkka
SUMMARY:Mitä tapahtui Oliverille? - ensi-ilta
DESCRIPTION:<html><head></head><body> <br /><br />  Visit event in our website: <a href='https://tapahtumainfo.fi/tapahtuma/2026/12/mita-tapahtui-oliverille-ensi-ilta/442496'>Tapahtumainfo.fi</a></body></html>
END:VEVENT
END:VCALENDAR
