BEGIN:VCALENDAR
VERSION:2.0
PRODID:-//tapahtumainfo.fi//NONSGML Mitä tapahtui Oliverille?//EN
METHOD:REQUEST
BEGIN:VEVENT
UID:20260425T162650-1607638517-tapahtumainfo.fi
DTSTAMP:20260425T162650
DTSTART:20261205T190000Z
DTEND:20261205T020000Z
LOCATION:Teatteri Jurkka
SUMMARY:Mitä tapahtui Oliverille?
DESCRIPTION:<html><head></head><body> <br /><br />  Visit event in our website: <a href='https://tapahtumainfo.fi/tapahtuma/2026/12/mita-tapahtui-oliverille/442497'>Tapahtumainfo.fi</a></body></html>
END:VEVENT
END:VCALENDAR
