BEGIN:VCALENDAR
VERSION:2.0
PRODID:-//tapahtumainfo.fi//NONSGML Mitä tapahtui Oliverille?//EN
METHOD:REQUEST
BEGIN:VEVENT
UID:20260423T062030-2115044192-tapahtumainfo.fi
DTSTAMP:20260423T062030
DTSTART:20270113T190000Z
DTEND:20270113T020000Z
LOCATION:Teatteri Jurkka
SUMMARY:Mitä tapahtui Oliverille?
DESCRIPTION:<html><head></head><body> <br /><br />  Visit event in our website: <a href='https://tapahtumainfo.fi/tapahtuma/2027/01/mita-tapahtui-oliverille/442506'>Tapahtumainfo.fi</a></body></html>
END:VEVENT
END:VCALENDAR
