BEGIN:VCALENDAR
VERSION:2.0
PRODID:-//tapahtumainfo.fi//NONSGML Mitä tapahtui Oliverille?//EN
METHOD:REQUEST
BEGIN:VEVENT
UID:20260422T203301-1083737076-tapahtumainfo.fi
DTSTAMP:20260422T203301
DTSTART:20270225T190000Z
DTEND:20270225T020000Z
LOCATION:Teatteri Jurkka
SUMMARY:Mitä tapahtui Oliverille?
DESCRIPTION:<html><head></head><body> <br /><br />  Visit event in our website: <a href='https://tapahtumainfo.fi/tapahtuma/2027/02/mita-tapahtui-oliverille/442519'>Tapahtumainfo.fi</a></body></html>
END:VEVENT
END:VCALENDAR
