BEGIN:VCALENDAR
VERSION:2.0
PRODID:-//tapahtumainfo.fi//NONSGML Mitä tapahtui Oliverille?//EN
METHOD:REQUEST
BEGIN:VEVENT
UID:20260421T071811-1217193654-tapahtumainfo.fi
DTSTAMP:20260421T071811
DTSTART:20270320T140000Z
DTEND:20270320T020000Z
LOCATION:Teatteri Jurkka
SUMMARY:Mitä tapahtui Oliverille?
DESCRIPTION:<html><head></head><body> <br /><br />  Visit event in our website: <a href='https://tapahtumainfo.fi/tapahtuma/2027/03/mita-tapahtui-oliverille/442526'>Tapahtumainfo.fi</a></body></html>
END:VEVENT
END:VCALENDAR
