BEGIN:VCALENDAR
VERSION:2.0
PRODID:-//tapahtumainfo.fi//NONSGML Keuhkot//EN
METHOD:REQUEST
BEGIN:VEVENT
UID:20260423T121719-1725588397-tapahtumainfo.fi
DTSTAMP:20260423T121719
DTSTART:20260919T140000Z
DTEND:20260919T020000Z
LOCATION:Teatteri Jurkka
SUMMARY:Keuhkot
DESCRIPTION:<html><head></head><body> <br /><br />  Visit event in our website: <a href='https://tapahtumainfo.fi/tapahtuma/2026/09/keuhkot/442533'>Tapahtumainfo.fi</a></body></html>
END:VEVENT
END:VCALENDAR
