BEGIN:VCALENDAR
VERSION:2.0
PRODID:-//tapahtumainfo.fi//NONSGML Keuhkot//EN
METHOD:REQUEST
BEGIN:VEVENT
UID:20260422T023341-1116592336-tapahtumainfo.fi
DTSTAMP:20260422T023341
DTSTART:20261107T140000Z
DTEND:20261107T020000Z
LOCATION:Teatteri Jurkka
SUMMARY:Keuhkot
DESCRIPTION:<html><head></head><body> <br /><br />  Visit event in our website: <a href='https://tapahtumainfo.fi/tapahtuma/2026/11/keuhkot/442552'>Tapahtumainfo.fi</a></body></html>
END:VEVENT
END:VCALENDAR
