BEGIN:VCALENDAR
VERSION:2.0
PRODID:-//tapahtumainfo.fi//NONSGML Keuhkot//EN
METHOD:REQUEST
BEGIN:VEVENT
UID:20260424T074542-1602247683-tapahtumainfo.fi
DTSTAMP:20260424T074542
DTSTART:20261117T190000Z
DTEND:20261117T020000Z
LOCATION:Teatteri Jurkka
SUMMARY:Keuhkot
DESCRIPTION:<html><head></head><body> <br /><br />  Visit event in our website: <a href='https://tapahtumainfo.fi/tapahtuma/2026/11/keuhkot/442555'>Tapahtumainfo.fi</a></body></html>
END:VEVENT
END:VCALENDAR
