BEGIN:VCALENDAR
VERSION:2.0
PRODID:-//tapahtumainfo.fi//NONSGML Keuhkot//EN
METHOD:REQUEST
BEGIN:VEVENT
UID:20260423T134116-1564115278-tapahtumainfo.fi
DTSTAMP:20260423T134116
DTSTART:20261126T190000Z
DTEND:20261126T020000Z
LOCATION:Teatteri Jurkka
SUMMARY:Keuhkot
DESCRIPTION:<html><head></head><body> <br /><br />  Visit event in our website: <a href='https://tapahtumainfo.fi/tapahtuma/2026/11/keuhkot/442560'>Tapahtumainfo.fi</a></body></html>
END:VEVENT
END:VCALENDAR
