BEGIN:VCALENDAR
VERSION:2.0
PRODID:-//tapahtumainfo.fi//NONSGML Keuhkot//EN
METHOD:REQUEST
BEGIN:VEVENT
UID:20260425T161943-241951205-tapahtumainfo.fi
DTSTAMP:20260425T161943
DTSTART:20261127T190000Z
DTEND:20261127T020000Z
LOCATION:Teatteri Jurkka
SUMMARY:Keuhkot
DESCRIPTION:<html><head></head><body> <br /><br />  Visit event in our website: <a href='https://tapahtumainfo.fi/tapahtuma/2026/11/keuhkot/442561'>Tapahtumainfo.fi</a></body></html>
END:VEVENT
END:VCALENDAR
