BEGIN:VCALENDAR
VERSION:2.0
PRODID:-//tapahtumainfo.fi//NONSGML Keuhkot//EN
METHOD:REQUEST
BEGIN:VEVENT
UID:20260424T084859-1006550057-tapahtumainfo.fi
DTSTAMP:20260424T084859
DTSTART:20261211T190000Z
DTEND:20261211T020000Z
LOCATION:Teatteri Jurkka
SUMMARY:Keuhkot
DESCRIPTION:<html><head></head><body> <br /><br />  Visit event in our website: <a href='https://tapahtumainfo.fi/tapahtuma/2026/12/keuhkot/442563'>Tapahtumainfo.fi</a></body></html>
END:VEVENT
END:VCALENDAR
