BEGIN:VCALENDAR
VERSION:2.0
PRODID:-//tapahtumainfo.fi//NONSGML Keuhkot//EN
METHOD:REQUEST
BEGIN:VEVENT
UID:20260423T064725-2002123810-tapahtumainfo.fi
DTSTAMP:20260423T064725
DTSTART:20270109T140000Z
DTEND:20270109T020000Z
LOCATION:Teatteri Jurkka
SUMMARY:Keuhkot
DESCRIPTION:<html><head></head><body> <br /><br />  Visit event in our website: <a href='https://tapahtumainfo.fi/tapahtuma/2027/01/keuhkot/442567'>Tapahtumainfo.fi</a></body></html>
END:VEVENT
END:VCALENDAR
