BEGIN:VCALENDAR
VERSION:2.0
PRODID:-//tapahtumainfo.fi//NONSGML Keuhkot//EN
METHOD:REQUEST
BEGIN:VEVENT
UID:20260423T004228-726247671-tapahtumainfo.fi
DTSTAMP:20260423T004228
DTSTART:20270129T190000Z
DTEND:20270129T020000Z
LOCATION:Teatteri Jurkka
SUMMARY:Keuhkot
DESCRIPTION:<html><head></head><body> <br /><br />  Visit event in our website: <a href='https://tapahtumainfo.fi/tapahtuma/2027/01/keuhkot/442573'>Tapahtumainfo.fi</a></body></html>
END:VEVENT
END:VCALENDAR
