BEGIN:VCALENDAR
VERSION:2.0
PRODID:-//tapahtumainfo.fi//NONSGML Keuhkot//EN
METHOD:REQUEST
BEGIN:VEVENT
UID:20260422T232651-1354613238-tapahtumainfo.fi
DTSTAMP:20260422T232651
DTSTART:20270206T140000Z
DTEND:20270206T020000Z
LOCATION:Teatteri Jurkka
SUMMARY:Keuhkot
DESCRIPTION:<html><head></head><body> <br /><br />  Visit event in our website: <a href='https://tapahtumainfo.fi/tapahtuma/2027/02/keuhkot/442576'>Tapahtumainfo.fi</a></body></html>
END:VEVENT
END:VCALENDAR
