BEGIN:VCALENDAR
VERSION:2.0
PRODID:-//tapahtumainfo.fi//NONSGML #3 FIN: Puijo Wolley - Pölkky Kuusamo//EN
METHOD:REQUEST
BEGIN:VEVENT
UID:20260421T063021-135802544-tapahtumainfo.fi
DTSTAMP:20260421T063021
DTSTART:20260421T180000Z
DTEND:20260421T020000Z
LOCATION:Luola – Savilahden liikunta- ja tapahtumakeskus
SUMMARY:#3 FIN: Puijo Wolley - Pölkky Kuusamo
DESCRIPTION:<html><head></head><body><p>  <b>NYT PELATAAN FINAALEITA!</b></p><p>  Puijo Wolley on edennyt Mestaruusliigan finaaleihin, joissa kohdataan   Pölkky Kuusamo. Finaalisarjan kolmas kohtaaminen pelataan ISLVI   Areenalla <b>tiistain 21.4. klo 18:00.</b></p><p>  </p><p>  Finaalit Puijo Wolley - Pölkky Kuusamo</p><p>  #1 tiistai 14.4. klo 18.30, Kuusamo<br>#2 torstai 16.4. klo 18.00, ISLVI   Areena Kuopio<br>#3 tiistai 21.4. klo 18.00, ISLVI Areena Kuopio<br>#4   perjantai 24.4. klo 18.00, Kuusamo</p><p>  ---tarvittaessa---</p><p>  #5 lauantai 25.4. klo 17.00, Kuusamo<br>#6 tiistai 28.4. klo 18.00,   ISLVI Areena Kuopio<br>#7 perjantai 1.5. klo 17.00, Kuusamo</p><p>  Voittoon vaaditaan 4 voittoa.<br><br>Alle 18-vuotiaille tapahtumaan   vapaa pääsy.</p><p>  </p><p>  Alennusryhmiin lukeutuvat opiskelijat, eläkeläiset, varusmiehet ja   pyörätuolipaikka + yksi saattaja</p><p>  </p><p>  VIP-lippuun sisältyy ruokailu 1h 15min ennen ottelua, paikat   VIP-katsomosta sekä kahvitarjoilu ottelun pitkällä erätauolla. Lisäksi   valmennus käy kertomassa ennakkotunnelmia VIP-vieraille ennen ottelua.</p> <br /><br />  Visit event in our website: <a href='https://tapahtumainfo.fi/tapahtuma/2026/04/3-fin-puijo-wolley-polkky-kuusamo/442579'>Tapahtumainfo.fi</a></body></html>
END:VEVENT
END:VCALENDAR
