BEGIN:VCALENDAR
VERSION:2.0
PRODID:-//tapahtumainfo.fi//NONSGML Down by the Joki 2026, K-18//EN
METHOD:REQUEST
BEGIN:VEVENT
UID:20260421T054500-100858651-tapahtumainfo.fi
DTSTAMP:20260421T054500
DTSTART:20260613T180000Z
DTEND:20260613T020000Z
LOCATION:Grill & Bar Auroran sisäpihan tapahtuma-areena
SUMMARY:Down by the Joki 2026, K-18
DESCRIPTION:<html><head></head><body>Kesän 2026 odotetuin tapahtuma saapuu Virolahdelle! Grill & Bar Aurora järjestää huikean musiikki-illan upealla sisäpihan tapahtuma-areenalla. Luvassa on täydellinen yhdistelmä huippuartisteja ja kesäistä tunnelmaa!<br><br>ESIINTYJÄT:<br>EMMA DANIELS – Monipuolinen muusikko ja laulaja Haminasta<br>MIIKA MATTILA – Virolahtelainen laulaja-lauluntekijä, jonka tunnetuimpia hittejä ovat ”Heihei”, ”Ota mut kokonaan” ja ”Uusi alku”. Syksyn Sävel -finalisti!<br>MEIJU SUVAS – Parrasvalojen ja estradien supertähti loistavan Ihana bändinsä kera.<br><br>LIPUT:<br>Ovelta 45€ klo 17.30 alkaen.<br>Kaverilippu 59€ / 5.5. saakka / rajoitettu erä<br>Early bird lippu hintaan 34€ / 5.6. saakka / rajoitettu erä<br><br>Liput saatavilla myös ravintolastamme (Aurora Grill & Bar, Opintie 1, Virolahti) • Soittamalla numeroon 050 465 4521 • Tai lippu.fi<br><br>Tule nauttimaan kesäillasta huippuartistien seurassa!<br>Aurora Grill & Bar tarjoilee tietysti myös maukasta ruokaa ja virvokkeita tapahtuman aikana.<br>Lisätiedot: 050 465 4521 <br /><br />  Visit event in our website: <a href='https://tapahtumainfo.fi/tapahtuma/2026/06/down-by-the-joki-2026-k-18/442580'>Tapahtumainfo.fi</a></body></html>
END:VEVENT
END:VCALENDAR
