BEGIN:VCALENDAR
VERSION:2.0
PRODID:-//tapahtumainfo.fi//NONSGML Greta Tuotanto: Mitä nyt, Lea?//EN
METHOD:REQUEST
BEGIN:VEVENT
UID:20260424T105209-480260769-tapahtumainfo.fi
DTSTAMP:20260424T105209
DTSTART:20261004T160000Z
DTEND:20261004T020000Z
LOCATION:Aleksanterin teatteri
SUMMARY:Greta Tuotanto: Mitä nyt, Lea?
DESCRIPTION:<html><head></head><body>Mitä nyt, Lea? on Pola Ivankan lavashow täynnä tunteita. Drag-taiteilija Pola Ivankan ja muusikko-säveltäjä Iiro Ollilan show’ssa ei säästellä tunteita, ja menoa siivittävät upeat uudet sovitukset Lea Lavenin musiikista. Ohjauksesta vastaa Reetta Ristimäki.<br><br>Pola Ivankan takana on drag-artisti Mika Tepsa. Monikymmenvuotiseen uraan on mahtunut naurua, itkua ja paljon tekoripsiä. Mika esitti Lavenin hittejä jo 70-luvulla. Eipä aikaakaan, kun Kortit kertoivat kohtalon ja Pola Ivanka sai syntynsä. Alter ego oli kuin Taivaan lahja ja viihdetaiteilijasta kasvoi Rotunainen.<br>Vuosien mittaan Mika ja Pola sulautuivat toisiinsa. Vaikeina aikoina, kun parisuhteet kariutuivat ja Silmät satoi ikävää, musiikki kulki rinnalla. Tervetuloa liikuttumaan ja nauttimaan Lea Lavenin sävelien tahdissa!<br><br>Työryhmä:<br>Käsikirjoitus - Mika Tepsa, musiikin sävellys ja sovitus - Iiro Ollila, ohjaus - Reetta Ristimäki, visualisointi - Elle Mikkola, ääni- ja valosuunnittelu - Max Marshall<br><br>Katsojakommentteja:<br>“Tunnen oloni pidellyksi, keski-ikä teemana kosketti syvällisesti.”<br>”Tämä ei ole mikään imitaatioshow, vaan teatterin keinoin tehty musiikkiteatteriesitys, joka koskettaa syvästi”<br><br>Liput: 38 / 34 €, Ryhmä 32 € <br /><br />  Visit event in our website: <a href='https://tapahtumainfo.fi/tapahtuma/2026/10/greta-tuotanto-mita-nyt-lea/442581'>Tapahtumainfo.fi</a></body></html>
END:VEVENT
END:VCALENDAR
