BEGIN:VCALENDAR
VERSION:2.0
PRODID:-//tapahtumainfo.fi//NONSGML Greta tuotanto: Ilta Rivieralla//EN
METHOD:REQUEST
BEGIN:VEVENT
UID:20260424T151227-1808632915-tapahtumainfo.fi
DTSTAMP:20260424T151227
DTSTART:20260920T160000Z
DTEND:20260920T020000Z
LOCATION:Aleksanterin teatteri
SUMMARY:Greta tuotanto: Ilta Rivieralla
DESCRIPTION:<html><head></head><body>Greta Tuotanto esittää: Ilta Rivieralla<br><br>Ilta Rivieralla Olavi Paavolaisen kanssa vie katsojat Välimeren lämpöön yhdistäen runoutta, musiikkia, draamallisia kohtauksia ja kulttuurihistoriaa. Kertoja (Anna Kortelainen) johdattaa yleisön tarinaan. Esityksessä koetaan Olavi Paavolaisen (Joel Mäkinen) lennokkaat kirjeet ja hurmioituneet runot, joita elävöittävät tarinat ja lumoava ranskalainen musiikki. Draamallisia kohtauksia on rakennettu fiktiivisen pensionaatin pitäjän (Reetta Ristimäki) ja Paavolaisen välille.<br>Musiikki on koottu vuosisadan alun taidemusiikista ja aikakauden hittibiiseistä (mm. Poulenc, Debussy, Fauré, Maurice Chevalier). Joel Mäkinen on säveltänyt lisäksi musiikkia Paavolaisen runoihin.<br><br>Nuori dandy Paavolainen matkusti Nizzaan 1927. Hän lähetti ystävilleen vuoroin rehvakkaita, vuoroin rehellisiä kirjeitä ja jahtasi väkevää tunnetta nykyajasta. Matkalla syntyivät Nykyaikaa etsimässä -teoksen esseet. Paavolainen löysi nykyajan kirpeän suloisen ihanuuden Ranskan Rivieralta.<br><br>Työryhmä:<br>Käsikirjoitus, kuvasuunnittelu, kertoja - Anna Kortelainen<br>Olavi Paavolainen - Joel Mäkinen<br>Madame Notorjeva - Reetta Ristimäki<br>Puvut - Riitta Röpelinen<br>Visualisointi - Elle Mikkola<br>Ompelija - Sarita Vepsäläinen<br>Visualisoinnin toteutus - Aniisia Kronidova<br>Kuvakäsittely - Elle Mikkola, Veera Paija<br><br>Kesto 70 min, ei väliaikaa.<br><br>Liput: 38 / 34 € <br /><br />  Visit event in our website: <a href='https://tapahtumainfo.fi/tapahtuma/2026/09/greta-tuotanto-ilta-rivieralla/442582'>Tapahtumainfo.fi</a></body></html>
END:VEVENT
END:VCALENDAR
