BEGIN:VCALENDAR
VERSION:2.0
PRODID:-//tapahtumainfo.fi//NONSGML Miesten Ykkönen: RoPS - KPV//EN
METHOD:REQUEST
BEGIN:VEVENT
UID:20260424T171328-1218265549-tapahtumainfo.fi
DTSTAMP:20260424T171328
DTSTART:20260425T160000Z
DTEND:20260425T020000Z
LOCATION:Rovaniemen Keskuskenttä
SUMMARY:Miesten Ykkönen: RoPS - KPV
DESCRIPTION:<html><head></head><body><p>  Miesten Ykkösen runkosarjan ottelu RoPS - KPV Rovaniemen Keskuskentällä.<br><br>Avustaja   pääsee otteluun samalla lipulla avustettavan kanssa. Lapset alle 15   vuotta sekä seuran omat juniorit ilmaiseksi. Portit ja kanttiinit   avautuvat tunti ennen ottelun alkua.</p> <br /><br />  Visit event in our website: <a href='https://tapahtumainfo.fi/tapahtuma/2026/04/miesten-ykkonen-rops-kpv/442606'>Tapahtumainfo.fi</a></body></html>
END:VEVENT
END:VCALENDAR
