BEGIN:VCALENDAR
VERSION:2.0
PRODID:-//tapahtumainfo.fi//NONSGML Miesten Ykkönen: RoPS - OLS//EN
METHOD:REQUEST
BEGIN:VEVENT
UID:20260423T010459-407844709-tapahtumainfo.fi
DTSTAMP:20260423T010459
DTSTART:20260602T190000Z
DTEND:20260602T020000Z
LOCATION:Rovaniemen Keskuskenttä
SUMMARY:Miesten Ykkönen: RoPS - OLS
DESCRIPTION:<html><head></head><body><p>  Miesten Ykkösen runkosarjan ottelu RoPS - OLS Rovaniemen Keskuskentällä.<br><br>Avustaja   pääsee otteluun samalla lipulla avustettavan kanssa. Lapset alle 15   vuotta sekä seuran omat juniorit ilmaiseksi. Portit ja kanttiinit   avautuvat tunti ennen ottelun alkua.</p> <br /><br />  Visit event in our website: <a href='https://tapahtumainfo.fi/tapahtuma/2026/06/miesten-ykkonen-rops-ols/442608'>Tapahtumainfo.fi</a></body></html>
END:VEVENT
END:VCALENDAR
