BEGIN:VCALENDAR
VERSION:2.0
PRODID:-//tapahtumainfo.fi//NONSGML Miesten Ykkönen: RoPS - TamU//EN
METHOD:REQUEST
BEGIN:VEVENT
UID:20260422T161513-741170660-tapahtumainfo.fi
DTSTAMP:20260422T161513
DTSTART:20260606T160000Z
DTEND:20260606T020000Z
LOCATION:Rovaniemen Keskuskenttä
SUMMARY:Miesten Ykkönen: RoPS - TamU
DESCRIPTION:<html><head></head><body><p>  Miesten Ykkösen runkosarjan ottelu RoPS - TamU Rovaniemen Keskuskentällä.<br><br>Avustaja   pääsee otteluun samalla lipulla avustettavan kanssa. Lapset alle 15   vuotta sekä seuran omat juniorit ilmaiseksi. Portit ja kanttiinit   avautuvat tunti ennen ottelun alkua.</p> <br /><br />  Visit event in our website: <a href='https://tapahtumainfo.fi/tapahtuma/2026/06/miesten-ykkonen-rops-tamu/442609'>Tapahtumainfo.fi</a></body></html>
END:VEVENT
END:VCALENDAR
