BEGIN:VCALENDAR
VERSION:2.0
PRODID:-//tapahtumainfo.fi//NONSGML Miesten Ykkönen: RoPS - SalPa//EN
METHOD:REQUEST
BEGIN:VEVENT
UID:20260423T073234-670766576-tapahtumainfo.fi
DTSTAMP:20260423T073234
DTSTART:20260627T221500Z
DTEND:20260627T020000Z
LOCATION:Rovaniemen Keskuskenttä
SUMMARY:Miesten Ykkönen: RoPS - SalPa
DESCRIPTION:<html><head></head><body><p>  Miesten Ykkösen Yöttömän Yön ottelu RoPS - SalPa Rovaniemen   Keskuskentällä. VIP-liput Yöttömän Yön otteluun ovat myynnissä RoPS:n   verkkokaupassa www.ropskauppa.fi<br><br>Avustaja pääsee otteluun samalla   lipulla avustettavan kanssa. Lapset alle 15 vuotta sekä seuran omat   juniorit ilmaiseksi. Portit ja kanttiinit avautuvat tunti ennen ottelun   alkua.</p> <br /><br />  Visit event in our website: <a href='https://tapahtumainfo.fi/tapahtuma/2026/06/miesten-ykkonen-rops-salpa/442610'>Tapahtumainfo.fi</a></body></html>
END:VEVENT
END:VCALENDAR
