BEGIN:VCALENDAR
VERSION:2.0
PRODID:-//tapahtumainfo.fi//NONSGML Miesten Ykkönen: RoPS - PKKU//EN
METHOD:REQUEST
BEGIN:VEVENT
UID:20260422T214008-1186508690-tapahtumainfo.fi
DTSTAMP:20260422T214008
DTSTART:20260705T160000Z
DTEND:20260705T020000Z
LOCATION:Rovaniemen Keskuskenttä
SUMMARY:Miesten Ykkönen: RoPS - PKKU
DESCRIPTION:<html><head></head><body><p>  Miesten Ykkösen runkosarjan ottelu RoPS - PKKU Rovaniemen Keskuskentällä.<br><br>Avustaja   pääsee otteluun samalla lipulla avustettavan kanssa. Lapset alle 15   vuotta sekä seuran omat juniorit ilmaiseksi. Portit ja kanttiinit   avautuvat tunti ennen ottelun alkua.</p> <br /><br />  Visit event in our website: <a href='https://tapahtumainfo.fi/tapahtuma/2026/07/miesten-ykkonen-rops-pkku/442611'>Tapahtumainfo.fi</a></body></html>
END:VEVENT
END:VCALENDAR
