BEGIN:VCALENDAR
VERSION:2.0
PRODID:-//tapahtumainfo.fi//NONSGML Miesten Ykkönen: RoPS - JJK Jyväslylä//EN
METHOD:REQUEST
BEGIN:VEVENT
UID:20260426T000008-550907965-tapahtumainfo.fi
DTSTAMP:20260426T000008
DTSTART:20260725T160000Z
DTEND:20260725T020000Z
LOCATION:Rovaniemen Keskuskenttä
SUMMARY:Miesten Ykkönen: RoPS - JJK Jyväslylä
DESCRIPTION:<html><head></head><body><p>  Miesten Ykkösen runkosarjan ottelu RoPS - JJK Jyväslylä Rovaniemen   Keskuskentällä.<br><br>Avustaja pääsee otteluun samalla   lipulla avustettavan kanssa. Lapset alle 15 vuotta sekä seuran omat   juniorit ilmaiseksi. Portit ja kanttiinit avautuvat tunti ennen ottelun   alkua.</p> <br /><br />  Visit event in our website: <a href='https://tapahtumainfo.fi/tapahtuma/2026/07/miesten-ykkonen-rops-jjk-jyvaslyla/442612'>Tapahtumainfo.fi</a></body></html>
END:VEVENT
END:VCALENDAR
