BEGIN:VCALENDAR
VERSION:2.0
PRODID:-//tapahtumainfo.fi//NONSGML Miesten Ykkönen: RoPS - KuPS Akatemia//EN
METHOD:REQUEST
BEGIN:VEVENT
UID:20260421T083611-2045230102-tapahtumainfo.fi
DTSTAMP:20260421T083611
DTSTART:20260811T183000Z
DTEND:20260811T020000Z
LOCATION:Rovaniemen Keskuskenttä
SUMMARY:Miesten Ykkönen: RoPS - KuPS Akatemia
DESCRIPTION:<html><head></head><body><p>  Miesten Ykkösen runkosarjan ottelu RoPS - KuPS Akatemia Rovaniemen   Keskuskentällä.<br><br>Avustaja pääsee otteluun samalla   lipulla avustettavan kanssa. Lapset alle 15 vuotta sekä seuran omat   juniorit ilmaiseksi. Portit ja kanttiinit avautuvat tunti ennen ottelun   alkua.</p> <br /><br />  Visit event in our website: <a href='https://tapahtumainfo.fi/tapahtuma/2026/08/miesten-ykkonen-rops-kups-akatemia/442614'>Tapahtumainfo.fi</a></body></html>
END:VEVENT
END:VCALENDAR
