BEGIN:VCALENDAR
VERSION:2.0
PRODID:-//tapahtumainfo.fi//NONSGML Maukan ja Väykän höntti päivä//EN
METHOD:REQUEST
BEGIN:VEVENT
UID:20260422T005218-1573436957-tapahtumainfo.fi
DTSTAMP:20260422T005218
DTSTART:20260629T150000Z
DTEND:20260629T020000Z
LOCATION:Naisvuoren kesäteatteri
SUMMARY:Maukan ja Väykän höntti päivä
DESCRIPTION:<html><head></head><body> <br /><br />  Visit event in our website: <a href='https://tapahtumainfo.fi/tapahtuma/2026/06/maukan-ja-vaykan-hontti-paiva/442624'>Tapahtumainfo.fi</a></body></html>
END:VEVENT
END:VCALENDAR
