BEGIN:VCALENDAR
VERSION:2.0
PRODID:-//tapahtumainfo.fi//NONSGML Maukan ja Väykän höntti päivä//EN
METHOD:REQUEST
BEGIN:VEVENT
UID:20260421T030319-1568615213-tapahtumainfo.fi
DTSTAMP:20260421T030319
DTSTART:20260702T150000Z
DTEND:20260702T020000Z
LOCATION:Naisvuoren kesäteatteri
SUMMARY:Maukan ja Väykän höntti päivä
DESCRIPTION:<html><head></head><body> <br /><br />  Visit event in our website: <a href='https://tapahtumainfo.fi/tapahtuma/2026/07/maukan-ja-vaykan-hontti-paiva/442627'>Tapahtumainfo.fi</a></body></html>
END:VEVENT
END:VCALENDAR
