BEGIN:VCALENDAR
VERSION:2.0
PRODID:-//tapahtumainfo.fi//NONSGML Sellosali Lämpiöklubi: Susanna Leppänen//EN
METHOD:REQUEST
BEGIN:VEVENT
UID:20260424T212043-1417601781-tapahtumainfo.fi
DTSTAMP:20260424T212043
DTSTART:20261009T190000Z
DTEND:20261009T020000Z
LOCATION:Sellosali, Leppävaara
SUMMARY:Sellosali Lämpiöklubi: Susanna Leppänen
DESCRIPTION:<html><head></head><body><b>Susanna Leppänen</b> on omaääninen tarinankertoja, joka säveltää ja tekstittää tärkeimmälle instrumentilleen: Susanna Leppäselle.<br><br>Leppäsen nopeasti koukuttavat kappaleet karttavat kliseitä, ja hän nostaa sanoituksissaan viekoittelevan hassuttelevalla otteella ikäviäkin asioita eteen niin, että kuulija ei edes huomaa minkälaiseen teatteriin on tullut vedetyksi mukaan: kullatut vankkurit vaihtuvat tyhjyyttään kaikuviksi saleiksi, matka joutuu liesituulettimelta saunan taakse, rautateiltä tähtitaivaalle.<br><br>Soolodebyyttialbumi <i>Kaikki on kaikki</i> (2024, Panama-levyt) yhdistää popin, iskelmän ja jazzin. 10.4.2026 julkaistulla albumilla kuullaan Leppäsen rokimpaa soundia ja tarinoita Leppävaaran tiluksilta – kunnianosoituksena rakastetulle Metsolat-tv-sarjalle. Susanna Leppäsen keikat ovat vahvoja elämyksiä, joissa yhdistyy kaunis laulu, lahjakkuus, taitava soitanta ja liioittelematon teatraalisuus. Soolo tai duo, trio tai koko orkesteri; Leppänen tarjoilee esityksen, joka tekee aina hyvää. <br /><br />  Visit event in our website: <a href='https://tapahtumainfo.fi/tapahtuma/2026/10/sellosali-lampioklubi-susanna-leppanen/442648'>Tapahtumainfo.fi</a></body></html>
END:VEVENT
END:VCALENDAR
