BEGIN:VCALENDAR
VERSION:2.0
PRODID:-//tapahtumainfo.fi//NONSGML Isä, poika ja vaari//EN
METHOD:REQUEST
BEGIN:VEVENT
UID:20260421T075029-1815426097-tapahtumainfo.fi
DTSTAMP:20260421T075029
DTSTART:20260919T170000Z
DTEND:20260919T020000Z
LOCATION:Valkeakosken Teatteri, Vilho-näyttämö
SUMMARY:Isä, poika ja vaari
DESCRIPTION:<html><head></head><body> <br /><br />  Visit event in our website: <a href='https://tapahtumainfo.fi/tapahtuma/2026/09/isa-poika-ja-vaari/442649'>Tapahtumainfo.fi</a></body></html>
END:VEVENT
END:VCALENDAR
