BEGIN:VCALENDAR
VERSION:2.0
PRODID:-//tapahtumainfo.fi//NONSGML Kaj Chydeniuksen lauluja//EN
METHOD:REQUEST
BEGIN:VEVENT
UID:20260424T105209-674363505-tapahtumainfo.fi
DTSTAMP:20260424T105209
DTSTART:20261014T183000Z
DTEND:20261014T020000Z
LOCATION:Musiikkiteatteri Kapsäkki
SUMMARY:Kaj Chydeniuksen lauluja
DESCRIPTION:<html><head></head><body><b>Kaj Chydeniuksen lauluja</b><br>Minja Koski, Mikael Saari ja Matti Hussi<br>14.10.2026 klo 18.30<br><br>Tässä konsertissa <b>Kaj Chydeniuksen</b> luottolaulajat <b>Minja Koski </b>ja <b>Mikael Saari </b>tulkitsevat Chydeniuksen tuotantoa yhdessä pianisti <b>Matti Hussin</b> kanssa.<br><br>Konsertissa kuullaan säveltäjän rakastetuimpia lauluja viideltä eri vuosikymmeneltä. Ohjelmistossa ovat muun muassa kauniit klassikot <i>Hyvästi</i> ja <i>Sinua, sinua rakastan</i>.<br><br>”Säveltäjä Kaj Chydenius teki työkseen sitä, mitä todella rakasti – ja se näkyi ja kuului. Hän ehti elämänsä aikana tehdä arviolta 10 000 sävellystä. Itse saimme olla oppimassa pientä osaa tästä mittavasta tuotannosta.<br><br>Kun Kajn ura keikkailun osalta tuli päätökseensä, ei henkilökohtainen tarpeemme hänen sävellystensä esittämiselle tokikaan päättynyt. Koostimme konsertin, ”Kaj Chydeniuksen lauluja”, jossa pianistina Kajn sijaan toimi muusikko Matti Hussi. Konserttimme sai ensiesityksensä 21.2.2024 Teatteri Vanha Jukossa, Lahdessa, ja Kaj oli läsnä katsomossa. Koko konsertin ajan hänestä huokui lämpö ja hyväksyntä. Kohtaamisemme jäi viimeiseksi.<br><br>Kaj Chydeniuksen laulujen äärellä olemme kotona. Kaipaamme häntä kovasti. Musiikin kautta hän kuitenkin on edelleen läsnä elämissämme.”<br><br>– Minja Koski, Lahdessa 25.8.2025<br><br>Minja Koski, Mikael Saari ja Matti Hussi toimivat monipuolisesti musiikki- ja teatterialalla. Minja Koski on laulaja-lauluntekijä ja näyttelijä, joka julkaisee omaa musiikkiaan artistinimellä M. Viiden julkaistun albumin myötä M on lunastanut viime vuosina paikkansa kotimaisen pop-musiikin kiinnostavimpien artistien joukossa. Mikael Saari on muusikko ja näyttelijä, joka nousi suuremman yleisön tietoisuuteen Uuden Musiikin Kilpailu -ohjelman kautta, jossa hän kilpaili itse kirjoittamallaan kappaleella On It Goes. Kyseinen kappale löytyy Saaren The Grand Letdown -debyyttialbumilta, joka ilmestyi keväällä 2016. Matti Hussi on lahtelainen pianisti ja freelance-muusikko, joka työskentelee mm. apulaiskapellimestarina Lahden kaupunginteatterin musikaaleissa. Mattia voi myös kuulla Teatteri Vanha Jukon konserteissa ja Tuubakimalainen-yhtyeen kanssa keikoilla ympäri Suomea.<br><br>Minja Koski, laulu ja huilu<br>Mikael Saari, laulu ja kitara<br>Matti Hussi, piano<br>Liput: 34€/29€<br>Kesto: 1 h 50 min (sis. väliajan)<br>kuva: Tommi Mattila <br /><br />  Visit event in our website: <a href='https://tapahtumainfo.fi/tapahtuma/2026/10/kaj-chydeniuksen-lauluja/442652'>Tapahtumainfo.fi</a></body></html>
END:VEVENT
END:VCALENDAR
