BEGIN:VCALENDAR
VERSION:2.0
PRODID:-//tapahtumainfo.fi//NONSGML Talvisaunakarnevaali - Löylylegenda-ranneke//EN
METHOD:REQUEST
BEGIN:VEVENT
UID:20260423T005253-207694261-tapahtumainfo.fi
DTSTAMP:20260423T005253
DTSTART:20270129T000000Z
DTEND:20270129T020000Z
LOCATION:Ikaalinen Spa & Resort
SUMMARY:Talvisaunakarnevaali - Löylylegenda-ranneke
DESCRIPTION:<html><head></head><body>Vuoden 2026 huikean menestyksen jälkeen Talvisaunakarnevaali palaa Ikaalisiin, ja tällä kertaa mennään vielä isommin!<br><br>Talven kuumin viikonloppu kokoaa jälleen saunomisen ystävät, elämyshakuiset juhlijat ja hyvän fiiliksen metsästäjät yhteen Ikaalinen Spa & Resortin upeisiin talvimaisemiin. Luvassa on ainutlaatuinen yhdistelmä perinteistä saunakulttuuria, saunarituaaleja, elämyksellisiä saunoja, musiikkia, ohjelmaa ja talvista festaritunnelmaa.<br><br>Liput menevät nopeasti, joten varmista paikkasi nyt! <br /><br />  Visit event in our website: <a href='https://tapahtumainfo.fi/tapahtuma/2027/01/talvisaunakarnevaali-loylylegenda-ranneke/442653'>Tapahtumainfo.fi</a></body></html>
END:VEVENT
END:VCALENDAR
