BEGIN:VCALENDAR
VERSION:2.0
PRODID:-//tapahtumainfo.fi//NONSGML Talvisaunakarnevaali - 2 päivää//EN
METHOD:REQUEST
BEGIN:VEVENT
UID:20260423T005050-531260920-tapahtumainfo.fi
DTSTAMP:20260423T005050
DTSTART:20270129T000000Z
DTEND:20270129T020000Z
LOCATION:Ikaalinen Spa & Resort
SUMMARY:Talvisaunakarnevaali - 2 päivää
DESCRIPTION:<html><head></head><body>Vuoden 2026 huikean menestyksen jälkeen Talvisaunakarnevaali palaa Ikaalisiin, ja tällä kertaa mennään vielä isommin!<br><br>Talven kuumin viikonloppu kokoaa jälleen saunomisen ystävät, elämyshakuiset juhlijat ja hyvän fiiliksen metsästäjät yhteen Ikaalinen Spa & Resortin upeisiin talvimaisemiin. Luvassa on ainutlaatuinen yhdistelmä perinteistä saunakulttuuria, saunarituaaleja, elämyksellisiä saunoja, musiikkia, ohjelmaa ja talvista festaritunnelmaa.<br><br>Liput menevät nopeasti, joten varmista paikkasi nyt! <br /><br />  Visit event in our website: <a href='https://tapahtumainfo.fi/tapahtuma/2027/01/talvisaunakarnevaali-2-paivaa/442654'>Tapahtumainfo.fi</a></body></html>
END:VEVENT
END:VCALENDAR
