BEGIN:VCALENDAR
VERSION:2.0
PRODID:-//tapahtumainfo.fi//NONSGML Ilveksen iloinen itsenäisyys K-18//EN
METHOD:REQUEST
BEGIN:VEVENT
UID:20260424T194245-1530738220-tapahtumainfo.fi
DTSTAMP:20260424T194245
DTSTART:20261205T200000Z
DTEND:20261205T020000Z
LOCATION:Original Sokos Hotel Ilves
SUMMARY:Ilveksen iloinen itsenäisyys K-18
DESCRIPTION:<html><head></head><body>5.12.2026 legendaarisessa Ilveksen iloisessa itsenäisyysjuhlassa juhlitaan sekä Suomen itsenäisyyttä, että Original Sokos Hotel Ilveksen 40-vuotis synttäreitä. Ilveksen juhlavuoden kunniaksi lavalle nousevat discokuningatar EINI ja iskelmämusiikin huipulta KOMIAT-yhtye. Ensimmäinen esiintyjä aloittaa noin kello 22 ja loppuillasta tanssitaan kasarimusiikin tahtiin! Tapahtuma on täynnä mahtavaa ohjelmaa, ainutlaatuista tunnelmaa sekä tietysti herkullista ruokaa ja juomaa. Pukukoodi Cocktail ja halutessasi 80-luvun hengessä. <br /><br />  Visit event in our website: <a href='https://tapahtumainfo.fi/tapahtuma/2026/12/ilveksen-iloinen-itsenaisyys-k-18/442662'>Tapahtumainfo.fi</a></body></html>
END:VEVENT
END:VCALENDAR
