BEGIN:VCALENDAR
VERSION:2.0
PRODID:-//tapahtumainfo.fi//NONSGML Helsingin Oopperakesä: Song from the Uproar//EN
METHOD:REQUEST
BEGIN:VEVENT
UID:20260424T133853-985760144-tapahtumainfo.fi
DTSTAMP:20260424T133853
DTSTART:20260905T160000Z
DTEND:20260905T020000Z
LOCATION:Aleksanterin teatteri
SUMMARY:Helsingin Oopperakesä: Song from the Uproar
DESCRIPTION:<html><head></head><body><b>Helsingin Oopperakesä: Song from the Uproar</b><br><br>Songs from the Uproar on amerikkalaisen Missy Mazzolen säveltämä oopperateos, joka pohjautuu kirjailija ja seikkailija **Isabelle Eberhardt**n (1877–1904) poikkeukselliseen elämään.<br>Teos ammentaa hänen päiväkirjoistaan ja kirjoituksistaan ja vie katsojan Pohjois-Afrikan aavikoille, itsenäisyyden etsintään, rakkauteen, vapauden hurmaan ja kuoleman mysteeriin. Ooppera ei pyri kronologiseen elämäkertaan, vaan on henkilökohtainen ja emotionaalinen tulkinta Eberhardtin sisäisestä maailmasta ja hänen kamppailustaan identiteetin, sukupuoliroolien ja vapauden kanssa. Samalla teos tekee yli sadan vuoden takaisesta tarinasta hämmästyttävän ajankohtaisen ja universaalin.<br><br>Työryhmä: Kaapo Ijas (kapellimestari), Ville Salonen (ohjaus ja visualisointi), Terttu Pihlainen (mezzosopraano), orkesteri ja kuoro<br>Tuotanto: Ooppera Skaala<br><br>Kesto 1 h 15 min, ei väliaikaa.<br><br>Peruslippu 45 €<br>Eläkeläinen, opiskelija, työtön 42 €<br>Ryhmä min 10 hlö 42 € <br /><br />  Visit event in our website: <a href='https://tapahtumainfo.fi/tapahtuma/2026/09/helsingin-oopperakesa-song-from-the-uproar/442669'>Tapahtumainfo.fi</a></body></html>
END:VEVENT
END:VCALENDAR
