BEGIN:VCALENDAR
VERSION:2.0
PRODID:-//tapahtumainfo.fi//NONSGML Pähkinänsärkijä - Nutcracker//EN
METHOD:REQUEST
BEGIN:VEVENT
UID:20260424T073254-398320117-tapahtumainfo.fi
DTSTAMP:20260424T073254
DTSTART:20261219T140000Z
DTEND:20261219T020000Z
LOCATION:Finlandia-talo
SUMMARY:Pähkinänsärkijä - Nutcracker
DESCRIPTION:<html><head></head><body><b>Astukaa Pähkinänsärkijän taianomaiseen maailmaan, jonka esittää British Festival Ballet.</b><br><br>Tämä rakastettu klassikko palaa hienostuneena ja visuaalisesti näyttävänä tuotantona.<br><br>Kansainvälinen tanssijakaarti tunnetaan teknisestä huippuosaamisestaan ja ilmeikkäästä esiintymisestään. Jouluaattona nuori Clara saa pähkinänsärkijänuken.<br><br>Yön laskeutuessa lelu herää eloon ja vie hänet ihmeiden maailmaan: eeppinen taistelu Hiirikuningasta vastaan, lumisade ja matka lumottuun valtakuntaan, jossa Kukkien valssi ja muut kuuluisat tanssit heräävät eloon.<br><br>Tšaikovskin unohtumattomaan musiikkiin sävelletty esitys yhdistää eleganssin, virtuoosisuuden ja puhtaan lumouksen.<br><br>Pähkinänsärkijä on kiehtova elämys, joka sopii kaikenikäisille, olitpa kokenut baletin ystävä tai vasta tutustumassa lajiin.<br><br>British Festival Balletin Pähkinänsärkijä on juhlava, elegantti ja tunteikas joulunajan kohokohta, joka kannattaa jakaa perheen ja ystävien kanssa. <br /><br />  Visit event in our website: <a href='https://tapahtumainfo.fi/tapahtuma/2026/12/pahkinansarkija-nutcracker/442670'>Tapahtumainfo.fi</a></body></html>
END:VEVENT
END:VCALENDAR
