BEGIN:VCALENDAR
VERSION:2.0
PRODID:-//tapahtumainfo.fi//NONSGML Helsingin Oopperakesä: Heinähattu, Vilttitossu ja suuri pamaus//EN
METHOD:REQUEST
BEGIN:VEVENT
UID:20260425T165230-264786187-tapahtumainfo.fi
DTSTAMP:20260425T165230
DTSTART:20260830T130000Z
DTEND:20260830T020000Z
LOCATION:Aleksanterin teatteri
SUMMARY:Helsingin Oopperakesä: Heinähattu, Vilttitossu ja suuri pamaus
DESCRIPTION:<html><head></head><body><b>Helsingin Oopperakesä: Heinähattu, Vilttitossu ja suuri pamaus – lastenmusikaali</b><br><br>Heinähatun ja Vilttitossun vanhemmat odottelevat perheeseen uutta tulokasta, "jota pitää rasvata aamusta iltaan". Vilttitossu uskoo, että se on auto. Mutta äidin vatsan paisumista ei voi pysäyttää, vaikka Vilttitossu tekee kaikkensa, jotta taloon ei tulisi kilpailevaa kuopusta.<br>Kuka vatsasta lopulta putkahtaa? Koko perheen pienoismusikaalissa käsitellään lapsille tuttua ja hämmentävää tilannetta Nopolan kirjailijasisarusten tyyliin humoristisesti, mutta lapsen näkökulmasta.<br><br>Työryhmä:<br>Sinikka Ja Tiina Nopola (Libretto), Markus Fagerudd (Sävellys), Reetta Ristimäki (Ohjaus), Elle Mikkola (Skenografia)<br>Rooleissa: Mathilda Kruse (Heinähattu), Saara Mänttäri (Vilttitossu), Henna-Maija Kuki/Terhi Sjöblom (harmonikka, äiti), Arttu Huopainen (lyömäsoittimet, viulu, isä)<br>Tuotanto: Greta Tuotanto<br><br>Kesto 35 min, ei väliaikaa.<br><br>Aikuinen 29 €<br>Lapsi (alle 16 v) 24 €<br>Perhelippu (2 aikuista + 2 lasta) 95 € <br /><br />  Visit event in our website: <a href='https://tapahtumainfo.fi/tapahtuma/2026/08/helsingin-oopperakesa-heinahattu-vilttitossu-ja-suuri-pamaus/442672'>Tapahtumainfo.fi</a></body></html>
END:VEVENT
END:VCALENDAR
