BEGIN:VCALENDAR
VERSION:2.0
PRODID:-//tapahtumainfo.fi//NONSGML Jalmarin the Beatles-klubi//EN
METHOD:REQUEST
BEGIN:VEVENT
UID:20260421T033537-1598600095-tapahtumainfo.fi
DTSTAMP:20260421T033537
DTSTART:20260912T180000Z
DTEND:20260912T020000Z
LOCATION:Kangasala-talo
SUMMARY:Jalmarin the Beatles-klubi
DESCRIPTION:<html><head></head><body><b>Jiri Nikkinen The Beatles Tribute Band vie kuulijansa aikamatkalle</b><br><br>Kansainvälistä tunnustustakin saanut <b>Jiri Nikkinen The Beatles Tribute Band</b> on maamme<br>tunnetuin <b>The Beatlesin</b> musiikkiin erikoistunut yhtye, jonka rakkaus Beatlesiin näkyy ja kuuluu<br>heidän esiintymisessään. Tämä konsertti on aikamatka 60-luvulle, Beatlesin Hampuriin,<br>Liverpooliin, rakkauden kesään -67, ja Lontoon Savile Rowille.<br><br>Konsertin aikana kuullaan musiikkia kaikilta 12 Beatles-albumilta kattavasti hiteistä<br>harvinaisuuksiin, oikeista sävellajeista, oikein sovituksin ja oikealla Beatle-spiritillä. Ole siis paikalla.<br>The Beatlesia et enää voi kokea, mutta tämän vielä voit!<br><br>Esityksen arvioitu kesto on n. 3 tuntia, sisältäen väliajan.<br>Tuotanto: Kulttuuriravintola Jalmari<br><br><b>Lisäpalvelut</b><br>Naulakkopalvelumaksu 2,50 €<br><br><b>Ravintolan palvelut</b><br>Tule virittäytymään illan tunnelmaan jo ennakkoon! Ravintolapalvelut avautuvat tuntia ennen konserttia.<br><a href="https://kangasala-talo.fi/ravintola/" target="_blank">Tutustu Kulttuuriravintola Jalmarin palveluihin ›</a><br><br><b>Kimmo Pyykkö -taidemuseo</b><br>Kangasala-talossa sijaitseva taidemuseo on avoinna konsertin alkuun saakka.<br><a href="https://kimmopyykkotaidemuseo.fi/" target="_blank">Tutustu näyttelyihin ›</a><br><br><b>Saapuminen</b><br>Kangasala-talo sijaitsee hyvien kulkuyhteyksien varrella ja meille saavut helposti myös bussilla, pyörällä tai kävellen! Lue lisää saapumisesta ja pysäköinnistä <a href="https://kangasala-talo.fi/tule-meille/saapuminen/" target="_blank">täältä ›</a> <b>Klubi</b><br>Tervetuloa Kangasala-talon klubille! Voit istua pöydän ääressä parhaalla paikalla lavan edessä nauttimassa esityksestä ja baarin antimista. Permannolla on numeroimattomia pöytäpaikkoja ja katsomossa numeroimattomia istumapaikkoja. Salissa on myynnissä alkoholillisia ja alkoholittomia juomia. Salin ovet aukeavat ja myynti salissa alkaa 30 min ennen esityksen alkua. Tule ajoissa ja varmista parhaat paikat! Permannon pöytäpaikat ja osa nousevasta katsomosta ovat anniskelualuetta.<br><br><b>Anniskelukatsomo</b><br>Esityksessä on K18-anniskelualue katsomon yläosassa, riveillä 8-11.<br>Anniskelualueella sijaitsevalle istumapaikalle voi viedä ennen esitystä ja mahdollisen väliajan aikana ostamansa juoman.<br>Anniskelukatsomo on kielletty alle 18-vuotiailta. <br /><br />  Visit event in our website: <a href='https://tapahtumainfo.fi/tapahtuma/2026/09/jalmarin-the-beatles-klubi/442673'>Tapahtumainfo.fi</a></body></html>
END:VEVENT
END:VCALENDAR
