BEGIN:VCALENDAR
VERSION:2.0
PRODID:-//tapahtumainfo.fi//NONSGML Lutakon Lippa: BLOODRED HOURGLASS, RIOGHAN//EN
METHOD:REQUEST
BEGIN:VEVENT
UID:20260421T083501-186862016-tapahtumainfo.fi
DTSTAMP:20260421T083501
DTSTART:20260812T180000Z
DTEND:20260812T020000Z
LOCATION:Lutakko
SUMMARY:Lutakon Lippa: BLOODRED HOURGLASS, RIOGHAN
DESCRIPTION:<html><head></head><body><b>Ke 12.8.2026 Lutakon Lippa: BLOODRED HOURGLASS, RIOGHAN</b><br>Ei ikärajaa / Rajattu anniskelualue K-18<br>Ovet klo 18.00<br>Saattajat veloituksetta saatettavan kanssa. <br /><br />  Visit event in our website: <a href='https://tapahtumainfo.fi/tapahtuma/2026/08/lutakon-lippa-bloodred-hourglass-rioghan/442674'>Tapahtumainfo.fi</a></body></html>
END:VEVENT
END:VCALENDAR
