BEGIN:VCALENDAR
VERSION:2.0
PRODID:-//tapahtumainfo.fi//NONSGML Lutakon Lippa: YONA, ASLA JO, ORVOKKI//EN
METHOD:REQUEST
BEGIN:VEVENT
UID:20260423T130829-502031614-tapahtumainfo.fi
DTSTAMP:20260423T130829
DTSTART:20260815T180000Z
DTEND:20260815T020000Z
LOCATION:Lutakko
SUMMARY:Lutakon Lippa: YONA, ASLA JO, ORVOKKI
DESCRIPTION:<html><head></head><body><b>La 15.8.2026 Lutakon Lippa: YONA, ASLA JO, ORVOKKI</b><br>Ei ikärajaa / Rajattu anniskelualue K-18<br>Ovet klo 18.00<br>Saattajat veloituksetta saatettavan kanssa. <br /><br />  Visit event in our website: <a href='https://tapahtumainfo.fi/tapahtuma/2026/08/lutakon-lippa-yona-asla-jo-orvokki/442677'>Tapahtumainfo.fi</a></body></html>
END:VEVENT
END:VCALENDAR
